BEGIN:VCALENDAR
VERSION:2.0
PRODID:-//ChamberMaster//Event Calendar 2.0//EN
METHOD:PUBLISH
X-PUBLISHED-TTL:P3D
REFRESH-INTERVAL:P3D
CALSCALE:GREGORIAN
BEGIN:VEVENT
DTSTART:20260426T163000Z
DTEND:20260426T200000Z
X-MICROSOFT-CDO-ALLDAYEVENT:FALSE
SUMMARY:150th Anniversary Celebration - After Services
DESCRIPTION:You can also enjoy the displays\, slide shows\, tours\, scavenger hunt\, photo ops\, and more. There will be a bunch of different foods to eat. Coffee\, lemonade\, and water to drink. For dessert\, we will have marble sheet cake\, 90 vanilla cupcakes\, 90 chocolate cupcakes\, and cutout sugar cookies. All food is free. No reservations are needed.
X-ALT-DESC;FMTTYPE=text/html:You can also enjoy the displays\, slide shows\, tours\, scavenger hunt\, photo ops\, and more. There will be a bunch of different foods to eat. Coffee\, lemonade\, and water to drink. For dessert\, we will have marble sheet cake\, 90 vanilla cupcakes\, 90 chocolate cupcakes\, and cutout sugar cookies. All food is free. No reservations are needed.
LOCATION:1104 East 3rd Street\, Merrill\, Wisconsin 54452
UID:e.2717.14553
SEQUENCE:3
DTSTAMP:20260425T020328Z
URL:https://business.merrillchamber.org/events/details/150th-anniversary-celebration-after-services-14553
END:VEVENT

END:VCALENDAR
