BEGIN:VCALENDAR
VERSION:2.0
PRODID:-//ChamberMaster//Event Calendar 2.0//EN
METHOD:PUBLISH
X-PUBLISHED-TTL:P3D
REFRESH-INTERVAL:P3D
CALSCALE:GREGORIAN
BEGIN:VEVENT
DTSTART:20260425T210000Z
DTEND:20260426T000000Z
X-MICROSOFT-CDO-ALLDAYEVENT:FALSE
SUMMARY:150th Anniversary Celebration - Saturday Evening
DESCRIPTION:Enjoy the displays\, slide shows\, tours\, scavenger hunt\, photo ops\, and more. There will be a variety of pizzas from Salvos and a 1/2 barrel of root beer. There will also be dessert and cookies provided by the Ladies Aid and Eagles Nest. All food is free. No reservations are needed.
X-ALT-DESC;FMTTYPE=text/html:Enjoy the displays\, slide shows\, tours\, scavenger hunt\, photo ops\, and more. There will be a variety of pizzas from Salvos and a 1/2 barrel of root beer. There will also be dessert and cookies provided by the Ladies Aid and Eagles Nest. All food is free. No reservations are needed.
LOCATION:1104 East 3rd Street\, Merrill\, Wisconsin 54452
UID:e.2717.14549
SEQUENCE:3
DTSTAMP:20260424T080639Z
URL:https://business.merrillchamber.org/events/details/150th-anniversary-celebration-saturday-evening-14549
END:VEVENT

END:VCALENDAR
