BEGIN:VCALENDAR
VERSION:2.0
PRODID:-//ChamberMaster//Event Calendar 2.0//EN
METHOD:PUBLISH
X-PUBLISHED-TTL:P3D
REFRESH-INTERVAL:P3D
CALSCALE:GREGORIAN
BEGIN:VEVENT
DTSTART:20260428T140000Z
DTEND:20260428T213000Z
X-MICROSOFT-CDO-ALLDAYEVENT:FALSE
SUMMARY:2026 Economic Summit
DESCRIPTION:2026 Economic Summit: Energizing the Small Business Spirit! Join us for an energizing event designed to ignite collaborations and fuel local business & community success! Get energized with a full (or half) day spent sparking your small business spirit! Learn how and why to build the connections that can light up your business and your community. For all event details\, visit: https://www.lincolncountyedc.org/event-details/2026-economic-summit
X-ALT-DESC;FMTTYPE=text/html:2026 Economic Summit: Energizing the Small Business Spirit! Join us for an energizing event designed to ignite collaborations and fuel local business &amp\; community success! Get energized with a full (or half) day spent sparking your small business spirit! Learn how and why to build the connections that can light up your business and your community. For all event details\, visit: https://www.lincolncountyedc.org/event-details/2026-economic-summit
LOCATION:Merrill Expo Center 303 1/2\, North Sales Street Merrill\, WI 54452
UID:e.2717.14543
SEQUENCE:3
DTSTAMP:20260425T014509Z
URL:https://business.merrillchamber.org/events/details/2026-economic-summit-14543
END:VEVENT

END:VCALENDAR
