BEGIN:VCALENDAR
VERSION:2.0
PRODID:-//ChamberMaster//Event Calendar 2.0//EN
METHOD:PUBLISH
X-PUBLISHED-TTL:P3D
REFRESH-INTERVAL:P3D
CALSCALE:GREGORIAN
BEGIN:VEVENT
DTSTART:20251210T180000Z
DTEND:20251210T190000Z
X-MICROSOFT-CDO-ALLDAYEVENT:FALSE
SUMMARY:60+ Pop Up Dining Site
DESCRIPTION:The T.B. Scott Free Library is thrilled to offer a new location for the 60+ Pop-Up Senior Dining in Merrill! Join us every second Wednesday of the month. This December\, we invite you to get in the holiday spirit and sing along with Bea Lebal as she plays holiday classics on the piano. starting at 11 a.m. Lunch will follow at 12 p.m.\, with a suggested contribution of $6. No eligible person will be turned away due to their ability to contribute. Eligibility: Individuals aged 60 or older\, their spouses\, or adults with disabilities living with a participating senior. To attend\, reservations are required by noon on the business day prior. Please call the ADRC at 888-486-9545 to register.
X-ALT-DESC;FMTTYPE=text/html:The T.B. Scott Free Library is thrilled to offer a new location for the 60+ Pop-Up Senior Dining in Merrill! Join us every second Wednesday of the month. This December\, we invite you to get in the holiday spirit and sing along with Bea Lebal as she plays holiday classics on the piano. starting at 11 a.m. Lunch will follow at 12 p.m.\, with a suggested contribution of $6. No eligible person will be turned away due to their ability to contribute. Eligibility: Individuals aged 60 or older\, their spouses\, or adults with disabilities living with a participating senior. To attend\, reservations are required by noon on the business day prior. Please call the ADRC at 888-486-9545 to register.
LOCATION:TB Scott Free Library 106 W 1st Street
UID:e.2717.13825
SEQUENCE:3
DTSTAMP:20260423T120306Z
URL:https://business.merrillchamber.org/events/details/60-pop-up-dining-site-12-10-2025-13825
END:VEVENT

END:VCALENDAR
