BEGIN:VCALENDAR
VERSION:2.0
PRODID:-//ChamberMaster//Event Calendar 2.0//EN
METHOD:PUBLISH
X-PUBLISHED-TTL:P3D
REFRESH-INTERVAL:P3D
CALSCALE:GREGORIAN
BEGIN:VEVENT
DTSTART:20251215T220000Z
DTEND:20251216T000000Z
X-MICROSOFT-CDO-ALLDAYEVENT:FALSE
SUMMARY:Adult Gingerbread House Craft
DESCRIPTION:Relive Your Childhood: Build Your Dream Gingerbread House! Calling all adults   it's time to get creative! Join us for a fun and festive gingerbread house-building event where you can create the gingerbread house of your dreams using cookie wafers\, frosting\, candy\, and more. Everything you need to complete your masterpiece will be provided. Registration will open on Monday\, November 17th. Preregistration is required. Reserve your spot by calling 715-536-7191 or by visiting the Adult Reference Desk on the 3rd floor. Don't miss out on this sweet holiday tradition! See you there!
X-ALT-DESC;FMTTYPE=text/html:Relive Your Childhood: Build Your Dream Gingerbread House! Calling all adults &ndash\; it&#39\;s time to get creative! Join us for a fun and festive gingerbread house-building event where you can create the gingerbread house of your dreams using cookie wafers\, frosting\, candy\, and more. Everything you need to complete your masterpiece will be provided. Registration will open on Monday\, November 17th. Preregistration is required. Reserve your spot by calling 715-536-7191 or by visiting the Adult Reference Desk on the 3rd floor. Don&#39\;t miss out on this sweet holiday tradition! See you there!
LOCATION:TB Scott Free Library 106 W 1st Street
UID:e.2717.13828
SEQUENCE:3
DTSTAMP:20260423T120817Z
URL:https://business.merrillchamber.org/events/details/adult-gingerbread-house-craft-12-15-2025-13828
END:VEVENT

END:VCALENDAR
