BEGIN:VCALENDAR
VERSION:2.0
PRODID:-//ChamberMaster//Event Calendar 2.0//EN
METHOD:PUBLISH
X-PUBLISHED-TTL:P3D
REFRESH-INTERVAL:P3D
CALSCALE:GREGORIAN
BEGIN:VEVENT
DTSTART:20250313T223000Z
DTEND:20250314T003000Z
X-MICROSOFT-CDO-ALLDAYEVENT:FALSE
SUMMARY:Build a Ceramic Mug with Tanya
DESCRIPTION:You and Grandma could have matching mugs together! That's right\, you can come in and build your very own mug to match with Grandma. This workshop will show you how you can build your very own coffee mug\, and you get to personalize it to be your very own. All supplies needed to complete the workshop are included in the price. The class is limited to 12 participants. You can register for the workshop in store\, online\, or over the phone. In order to reserve your spot\, you must make the payment while reserving. We ask that you register by noon the day prior to the workshop. If you missed the deadline to register we ask that you call the store and ask if we have any availability for the workshop.
X-ALT-DESC;FMTTYPE=text/html:You and Grandma could have matching mugs together! That&rsquo\;s right\, you can come in and build your very own mug to match with Grandma. This workshop will show you how you can build your very own coffee mug\, and you get to personalize it to be your very own. All supplies needed to complete the workshop are included in the price. The class is limited to 12 participants. You can register for the workshop in store\, online\, or over the phone. In order to reserve your spot\, you must make the payment while reserving. We ask that you register by noon the day prior to the workshop. If you missed the deadline to register we ask that you call the store and ask if we have any availability for the workshop.
LOCATION:Inspiring Creativity Supplies and More LLC
UID:e.2717.12234
SEQUENCE:3
DTSTAMP:20260424T105525Z
URL:https://business.merrillchamber.org/events/details/build-a-ceramic-mug-with-tanya-12234
END:VEVENT

END:VCALENDAR
