BEGIN:VCALENDAR
VERSION:2.0
PRODID:-//ChamberMaster//Event Calendar 2.0//EN
METHOD:PUBLISH
X-PUBLISHED-TTL:P3D
REFRESH-INTERVAL:P3D
CALSCALE:GREGORIAN
BEGIN:VEVENT
DTSTART:20260428T220000Z
DTEND:20260429T000000Z
X-MICROSOFT-CDO-ALLDAYEVENT:FALSE
SUMMARY:Business After Hours with the Lincoln County EDC
DESCRIPTION:The Lincoln County EDC\, in partnership with Cordova Insurance Agency and the Merrill Chamber\, is hosting a BUSINESS AFTER HOURS networking event immediately following this year's Economic Summit on April 28th! Open to all EDC & Chamber partners and business professionals looking to grow their networks (and have a little fun!). Summit attendance not required (just encouraged??). Stop by the Merrill Expo Center between 5-7 pm - we'd love to see you there!
X-ALT-DESC;FMTTYPE=text/html:The Lincoln County EDC\, in partnership with Cordova Insurance Agency and the Merrill Chamber\, is hosting a BUSINESS AFTER HOURS networking event immediately following this year&#39\;s Economic Summit on April 28th! Open to all EDC &amp\; Chamber partners and business professionals looking to grow their networks (and have a little fun!). Summit attendance not required (just encouraged??). Stop by the Merrill Expo Center between 5-7 pm - we&#39\;d love to see you there!
LOCATION:Merrill Expo Center 303 1/2\, North Sales Street Merrill\, WI 54452
UID:e.2717.14544
SEQUENCE:3
DTSTAMP:20260425T033644Z
URL:https://business.merrillchamber.org/events/details/business-after-hours-with-the-lincoln-county-edc-14544
END:VEVENT

END:VCALENDAR
