BEGIN:VCALENDAR
VERSION:2.0
PRODID:-//ChamberMaster//Event Calendar 2.0//EN
METHOD:PUBLISH
X-PUBLISHED-TTL:P3D
REFRESH-INTERVAL:P3D
CALSCALE:GREGORIAN
BEGIN:VEVENT
DTSTART:20250326T180000Z
DTEND:20250326T193000Z
X-MICROSOFT-CDO-ALLDAYEVENT:FALSE
SUMMARY:Cloud Dough with Jordan
DESCRIPTION:Are the kid's getting bored? Need to get out of the house and do something fun? Come on down and make some cloud dough with us! Cloud dough is the perfect sensory toy as it creates little mess\, is nice and soft and smells amazing! All supplies needed to complete the workshop are included in the price. An adult must be present for each child or children attending the workshop that are 9 and under. The class is limited to 12 participants. You can register for the workshop in store\, online or over the phone. In order to reserve your spot\, you must make the payment while reserving. We ask that you register by noon the day prior to the workshop. If you missed the deadline to register\, we ask that you call the store and ask uf we have any availability for the workshop.
X-ALT-DESC;FMTTYPE=text/html:Are the kid&rsquo\;s getting bored? Need to get out of the house and do something fun? Come on down and make some cloud dough with us! Cloud dough is the perfect sensory toy as it creates little mess\, is nice and soft and smells amazing! All supplies needed to complete the workshop are included in the price. An adult must be present for each child or children attending the workshop that are 9 and under. The class is limited to 12 participants. You can register for the workshop in store\, online or over the phone. In order to reserve your spot\, you must make the payment while reserving. We ask that you register by noon the day prior to the workshop. If you missed the deadline to register\, we ask that you call the store and ask uf we have any availability for the workshop.
LOCATION:Inspiring Creativity Supplies and More LLC
UID:e.2717.12241
SEQUENCE:3
DTSTAMP:20260420T063047Z
URL:https://business.merrillchamber.org/events/details/cloud-dough-with-jordan-12241
END:VEVENT

END:VCALENDAR
