BEGIN:VCALENDAR
VERSION:2.0
PRODID:-//ChamberMaster//Event Calendar 2.0//EN
METHOD:PUBLISH
X-PUBLISHED-TTL:P3D
REFRESH-INTERVAL:P3D
CALSCALE:GREGORIAN
BEGIN:VEVENT
DTSTART:20250311T223000Z
DTEND:20250312T003000Z
X-MICROSOFT-CDO-ALLDAYEVENT:FALSE
SUMMARY:Coffee Filter Hydrangeas with Jordan
DESCRIPTION:Do you have a hard time keeping plants alive? Always forgetting to water them or dig up those weeds? This workshop is the place you want to be. If you have always dreamed of having those beautiful flowers but cannot do the upkeep of having a live one\, these beautiful coffee filter plants with be those perfect addition to that empty vase. All supplies needed to complete the workshop are included in the price. The class is limited to 12 participants. Ages 12 and older\, please! You can register for the workshop in store\, online\, or over the phone. In order to reserve your spot\, you must make the payment while reserving. We ask that you register by noon the day prior to the workshop. If you missed the deadline to register we ask that you call the store and ask if we have any availability for the workshop.
X-ALT-DESC;FMTTYPE=text/html:Do you have a hard time keeping plants alive? Always forgetting to water them or dig up those weeds? This workshop is the place you want to be. If you have always dreamed of having those beautiful flowers but cannot do the upkeep of having a live one\, these beautiful coffee filter plants with be those perfect addition to that empty vase. All supplies needed to complete the workshop are included in the price. The class is limited to 12 participants. Ages 12 and older\, please! You can register for the workshop in store\, online\, or over the phone. In order to reserve your spot\, you must make the payment while reserving. We ask that you register by noon the day prior to the workshop. If you missed the deadline to register we ask that you call the store and ask if we have any availability for the workshop.
LOCATION:Inspiring Creativity Supplies and More LLC
UID:e.2717.12233
SEQUENCE:3
DTSTAMP:20260420T063025Z
URL:https://business.merrillchamber.org/events/details/coffee-filter-hydrangeas-with-jordan-12233
END:VEVENT

END:VCALENDAR
