BEGIN:VCALENDAR
VERSION:2.0
PRODID:-//ChamberMaster//Event Calendar 2.0//EN
METHOD:PUBLISH
X-PUBLISHED-TTL:P3D
REFRESH-INTERVAL:P3D
CALSCALE:GREGORIAN
BEGIN:VEVENT
DTSTART:20250305T190000Z
DTEND:20250305T210000Z
X-MICROSOFT-CDO-ALLDAYEVENT:FALSE
SUMMARY:Digital Literacy Workshop: Cybersecurity w/ Chris Sprague and Maria Pregler
DESCRIPTION:The T.B. Scott Free Library is a recipient of the ALA/PLA Digital Literacy Grant. This grant will allow library staff to conduct workshop courses on digital literacy. Join Chris Sprague and Maria Pregler for the next workshop on keeping yourself safe while online. Refreshments and giveaways will be provided. Pre-registration is mandatory. Please call 715-536-7191 for more information or to register.
X-ALT-DESC;FMTTYPE=text/html:The T.B. Scott Free Library is a recipient of the ALA/PLA Digital Literacy Grant. This grant will allow library staff to conduct workshop courses on digital literacy. Join Chris Sprague and Maria Pregler for the next workshop on keeping yourself safe while online. Refreshments and giveaways will be provided. Pre-registration is mandatory. Please call 715-536-7191 for more information or to register.
LOCATION:TB Scott Free Library Community Room
UID:e.2717.12228
SEQUENCE:3
DTSTAMP:20260420T063817Z
URL:https://business.merrillchamber.org/events/details/digital-literacy-workshop-cybersecurity-w-chris-sprague-and-maria-pregler-12228
END:VEVENT

END:VCALENDAR
