BEGIN:VCALENDAR
VERSION:2.0
PRODID:-//ChamberMaster//Event Calendar 2.0//EN
METHOD:PUBLISH
X-PUBLISHED-TTL:P3D
REFRESH-INTERVAL:P3D
CALSCALE:GREGORIAN
BEGIN:VEVENT
DTSTART:20250410T223000Z
DTEND:20250411T003000Z
X-MICROSOFT-CDO-ALLDAYEVENT:FALSE
SUMMARY:DIY Flower Tea Lights - Jordan
DESCRIPTION:Enjoy some time in the workshop with a friend or make some new friends while you’re here. We will be\ncreating these beautiful battery-operated tealights that look like a flower and are absolutely stunning\nwhen turned on.\nAll supplies needed to complete the workshop are included in the price. The class is limited to 12\nparticipants.\nYou can register for the workshop in store\, online\, or over the phone. In order to reserve your spot\, you\nmust make the payment while reserving. We ask that you register by noon the day prior to the workshop.\nIf you missed the deadline to register\, we ask that you call the store and ask if we have any availability for\nthe workshop.
X-ALT-DESC;FMTTYPE=text/html:Enjoy some time in the workshop with a friend or make some new friends while you’re here. We will be\ncreating these beautiful battery-operated tealights that look like a flower and are absolutely stunning\nwhen turned on.\nAll supplies needed to complete the workshop are included in the price. The class is limited to 12\nparticipants.\nYou can register for the workshop in store\, online\, or over the phone. In order to reserve your spot\, you\nmust make the payment while reserving. We ask that you register by noon the day prior to the workshop.\nIf you missed the deadline to register\, we ask that you call the store and ask if we have any availability for\nthe workshop.
LOCATION:Inspiring Creativity Supplies and More LLC
UID:e.2717.12740
SEQUENCE:3
DTSTAMP:20260420T050225Z
URL:https://business.merrillchamber.org/events/details/diy-flower-tea-lights-jordan-12740
END:VEVENT

END:VCALENDAR
