BEGIN:VCALENDAR
VERSION:2.0
PRODID:-//ChamberMaster//Event Calendar 2.0//EN
METHOD:PUBLISH
X-PUBLISHED-TTL:P3D
REFRESH-INTERVAL:P3D
CALSCALE:GREGORIAN
BEGIN:VEVENT
DTSTART:20240626T213000Z
DTEND:20240626T233000Z
X-MICROSOFT-CDO-ALLDAYEVENT:FALSE
SUMMARY:Fairy Houses Second Night – Teen Workshop
DESCRIPTION:Night 2 of Fairy Houses! Tonight is for painting the Fairy Houses that we made on Wednesday June 12th! All supplies you will need to complete the workshop are included in the price. Our teen workshops are for preteens (12) to teens (18)! You can register for the workshop in-store\, by phone or on our website. To reserve your spot in the workshop\, payment must be made. We ask that you register by noon the day before the workshop. If you miss the deadline to register\, please call the store to see if we have availability and supplies for the workshop.
X-ALT-DESC;FMTTYPE=text/html:Night 2 of Fairy Houses! Tonight is for painting the Fairy Houses that we made on Wednesday June 12th! All supplies you will need to complete the workshop are included in the price. Our teen workshops are for preteens (12) to teens (18)! You can register for the workshop in-store\, by phone or on our website. To reserve your spot in the workshop\, payment must be made. We ask that you register by noon the day before the workshop. If you miss the deadline to register\, please call the store to see if we have availability and supplies for the workshop.
LOCATION:Inspiring Creativity Supplies and More LLC
UID:e.2717.11595
SEQUENCE:3
DTSTAMP:20260422T190706Z
URL:https://business.merrillchamber.org/events/details/fairy-houses-second-night-teen-workshop-11595
END:VEVENT

END:VCALENDAR
