BEGIN:VCALENDAR
VERSION:2.0
PRODID:-//ChamberMaster//Event Calendar 2.0//EN
METHOD:PUBLISH
X-PUBLISHED-TTL:P3D
REFRESH-INTERVAL:P3D
CALSCALE:GREGORIAN
BEGIN:VEVENT
DTSTART:20250305T163000Z
DTEND:20250305T173000Z
X-MICROSOFT-CDO-ALLDAYEVENT:FALSE
SUMMARY:Family Storytime
DESCRIPTION:Continue to build early literacy skills through interactive stories\, songs\, play\, and crafts. Geared toward children ages 3-5 years old but all ages welcome. Preregistration not required
X-ALT-DESC;FMTTYPE=text/html:Continue to build early literacy skills through interactive stories\, songs\, play\, and crafts. Geared toward children ages 3-5 years old but all ages welcome. Preregistration not required
LOCATION:TB Scott Free Library Story hour room
UID:e.2717.12184
SEQUENCE:3
DTSTAMP:20260420T063752Z
URL:https://business.merrillchamber.org/events/details/family-storytime-03-05-2025-12184
END:VEVENT

END:VCALENDAR
