BEGIN:VCALENDAR
VERSION:2.0
PRODID:-//ChamberMaster//Event Calendar 2.0//EN
METHOD:PUBLISH
X-PUBLISHED-TTL:P3D
REFRESH-INTERVAL:P3D
CALSCALE:GREGORIAN
BEGIN:VEVENT
DTSTART:20260412T190000Z
DTEND:20260412T210000Z
X-MICROSOFT-CDO-ALLDAYEVENT:FALSE
SUMMARY:Fill'er Up
DESCRIPTION:Speaker Jim Draeger\, Sunday\, April 12 from 2 to 4 pm Location to be announced. Jim Draeger is the author of "Fill 'er Up: The Glory Days of Wisconsin Gas Stations (Places Along the Way) and will give a talk on the gas stations across Wisconsin. RSVP will be required - 715-536-5652. Donations will be accepted.
X-ALT-DESC;FMTTYPE=text/html:Speaker Jim Draeger\, Sunday\, April 12 from 2 to 4 pm Location to be announced. Jim Draeger is the author of &quot\;Fill &#39\;er Up: The Glory Days of Wisconsin Gas Stations (Places Along the Way) and will give a talk on the gas stations across Wisconsin. RSVP will be required - 715-536-5652. Donations will be accepted.
LOCATION:To Be Announced - Check Website
UID:e.2717.14418
SEQUENCE:3
DTSTAMP:20260425T033843Z
URL:https://business.merrillchamber.org/events/details/fill-er-up-14418
END:VEVENT

END:VCALENDAR
