BEGIN:VCALENDAR
VERSION:2.0
PRODID:-//ChamberMaster//Event Calendar 2.0//EN
METHOD:PUBLISH
X-PUBLISHED-TTL:P3D
REFRESH-INTERVAL:P3D
CALSCALE:GREGORIAN
BEGIN:VEVENT
DTSTART:20250213T180000Z
DTEND:20250214T010000Z
X-MICROSOFT-CDO-ALLDAYEVENT:FALSE
SUMMARY:Homemade Soup Thursday
DESCRIPTION:Homemade Soup with Asiago Bread or Bread Bowl (when available) at Sunset Hollow Wine and Bistro
X-ALT-DESC;FMTTYPE=text/html:Homemade Soup with Asiago Bread or Bread Bowl (when available) at Sunset Hollow Wine and Bistro
LOCATION:Sunset Hollow Wine and Bistro 811 E 1st Street Merrill\, WI
UID:e.2717.10913
SEQUENCE:3
DTSTAMP:20260420T075821Z
URL:https://business.merrillchamber.org/events/details/flatbread-thusday-02-13-2025-10913
END:VEVENT

END:VCALENDAR
