BEGIN:VCALENDAR
VERSION:2.0
PRODID:-//ChamberMaster//Event Calendar 2.0//EN
METHOD:PUBLISH
X-PUBLISHED-TTL:P3D
REFRESH-INTERVAL:P3D
CALSCALE:GREGORIAN
BEGIN:VEVENT
DTSTART:20250327T210000Z
DTEND:20250328T010000Z
X-MICROSOFT-CDO-ALLDAYEVENT:FALSE
SUMMARY:FOOD TRUCK - Stevies at The Creative Spirit
DESCRIPTION:UWSP Stevie's Food Truck All Sandwiches include Lettuce\, Tomato\, Onion\, and Pickle Smashburger with Cheese Two Patties- Smashburger with Cheese One Pattie- Pulled Pork Sandwich   Grilled Chicken Sandwich   (V) Beyond Burger- (V) Tindel Chicken Sandwich- French Fries - Battered Cheese Curds- Battered Onion Rings   Add Cheese- Add Bacon- Fresh Fruit- Nachos- Vegan Chorizo available upon request.
X-ALT-DESC;FMTTYPE=text/html:UWSP Stevie&#39\;s Food Truck All Sandwiches include Lettuce\, Tomato\, Onion\, and Pickle Smashburger with Cheese Two Patties- Smashburger with Cheese One Pattie- Pulled Pork Sandwich &ndash\; Grilled Chicken Sandwich &ndash\; (V) Beyond Burger- (V) Tindel Chicken Sandwich- French Fries - Battered Cheese Curds- Battered Onion Rings &ndash\; Add Cheese- Add Bacon- Fresh Fruit- Nachos- Vegan Chorizo available upon request.
LOCATION:129 N Prospect Street Merrill\, WI 54452
UID:e.2717.12217
SEQUENCE:3
DTSTAMP:20260420T063730Z
URL:https://business.merrillchamber.org/events/details/food-truck-stevies-at-the-creative-spirit-12217
END:VEVENT

END:VCALENDAR
