BEGIN:VCALENDAR
VERSION:2.0
PRODID:-//ChamberMaster//Event Calendar 2.0//EN
METHOD:PUBLISH
X-PUBLISHED-TTL:P3D
REFRESH-INTERVAL:P3D
CALSCALE:GREGORIAN
BEGIN:VEVENT
DTSTART:20260425T140000Z
DTEND:20260425T190000Z
X-MICROSOFT-CDO-ALLDAYEVENT:FALSE
SUMMARY:Furry Fiesta
DESCRIPTION:Join us for an exciting day celebrating our furry\, feathered and scaly friends at the Furry Fiesta Pet Expo. This family-friendly event will feature pet vendors\, animal-related businesses\, pet products\, community organizations and fun opportunities to learn more about caring for your pets. Weather you're a proud pet owner\, thinking about adopting or just love animals\, there will be something for everyone!\n\n\n\nIf you would like a vendor application email Dawn at Dawn.Smith@ci.merrill.wi.us
X-ALT-DESC;FMTTYPE=text/html:<div class="xdj266r x14z9mp xat24cr x1lziwak x1vvkbs x126k92a" style="white-space-collapse: preserve\; margin-inline: 0px\; overflow-wrap: break-word\; margin-bottom: 0px\; margin-top: 0px\; font-family: &quot\;Segoe UI Historic&quot\;\, &quot\;Segoe UI&quot\;\, Helvetica\, Arial\, sans-serif\; color: rgb(8\, 8\, 9)\; font-size: 15px\;">\n<div dir="auto" style="font-family: inherit\;">Join us for an exciting day celebrating our furry\, feathered and scaly friends at the Furry Fiesta Pet Expo. This family-friendly event will feature pet vendors\, animal-related businesses\, pet products\, community organizations and fun opportunities to learn more about caring for your pets. Weather you&#39\;re a proud pet owner\, thinking about adopting or just love animals\, there will be something for everyone!</div>\n</div>\n\n<div class="x14z9mp xat24cr x1lziwak x1vvkbs xtlvy1s x126k92a" style="white-space-collapse: preserve\; margin-inline: 0px\; overflow-wrap: break-word\; margin-bottom: 0px\; margin-top: 0.5em\; font-family: &quot\;Segoe UI Historic&quot\;\, &quot\;Segoe UI&quot\;\, Helvetica\, Arial\, sans-serif\; color: rgb(8\, 8\, 9)\; font-size: 15px\;">\n<div dir="auto" style="font-family: inherit\;">If you would like a vendor application email Dawn at Dawn.Smith@ci.merrill.wi.us</div>\n</div>\n
LOCATION:Smith Center 1100 Marc Drive Merrill
UID:e.2717.14425
SEQUENCE:3
DTSTAMP:20260425T033925Z
URL:https://business.merrillchamber.org/events/details/furry-fiesta-14425
END:VEVENT

END:VCALENDAR
