BEGIN:VCALENDAR
VERSION:2.0
PRODID:-//ChamberMaster//Event Calendar 2.0//EN
METHOD:PUBLISH
X-PUBLISHED-TTL:P3D
REFRESH-INTERVAL:P3D
CALSCALE:GREGORIAN
BEGIN:VEVENT
DTSTART:20250301T140000Z
DTEND:20250301T220000Z
X-MICROSOFT-CDO-ALLDAYEVENT:FALSE
SUMMARY:Gleason Ice Oval Race
DESCRIPTION:Stop out and watch some racing around the track in Gleason.  Registration is from 8am to 10am and racing starts at 11am.  Racing ATV's\, snowmobiles\, Carts\, and Motorcycles.  Please check out the website for more information.  www.gleasoncc.org
X-ALT-DESC;FMTTYPE=text/html:Stop out and watch some racing around the track in Gleason.&nbsp\; Registration is from 8am to 10am and racing starts at 11am.&nbsp\; Racing ATV&#39\;s\, snowmobiles\, Carts\, and Motorcycles.&nbsp\; Please check out the website for more information.&nbsp\; <a href="http://www.gleasoncc.org">www.gleasoncc.org</a>
LOCATION:N5335 Bayer St Gleason\, WI
UID:e.2717.11790
SEQUENCE:3
DTSTAMP:20260420T063551Z
URL:https://business.merrillchamber.org/events/details/gleason-ice-oval-race-11790
END:VEVENT

END:VCALENDAR
