BEGIN:VCALENDAR
VERSION:2.0
PRODID:-//ChamberMaster//Event Calendar 2.0//EN
METHOD:PUBLISH
X-PUBLISHED-TTL:P3D
REFRESH-INTERVAL:P3D
CALSCALE:GREGORIAN
BEGIN:VEVENT
DTSTART:20241005T230000Z
DTEND:20241006T020000Z
X-MICROSOFT-CDO-ALLDAYEVENT:FALSE
SUMMARY:Haunted Sawmill "Medical Mayhem"
DESCRIPTION:The 14th Annual Haunted Sawmill presents "The Gates of Asylum"\n\nCome see what changes Vincent and ghouls have made for 2024.
X-ALT-DESC;FMTTYPE=text/html:The 14th Annual Haunted Sawmill presents &quot\;The Gates of Asylum&quot\;<br />\nCome see what changes Vincent and ghouls have made for 2024.
LOCATION:700 Hendricks St. Merrill\, WI 54452
UID:e.2717.11777
SEQUENCE:3
DTSTAMP:20260422T071107Z
URL:https://business.merrillchamber.org/events/details/haunted-sawmill-medical-mayhem-11777
END:VEVENT

END:VCALENDAR
