BEGIN:VCALENDAR
VERSION:2.0
PRODID:-//ChamberMaster//Event Calendar 2.0//EN
METHOD:PUBLISH
X-PUBLISHED-TTL:P3D
REFRESH-INTERVAL:P3D
CALSCALE:GREGORIAN
BEGIN:VEVENT
DTSTART:20250301T150000Z
DTEND:20250301T180000Z
X-MICROSOFT-CDO-ALLDAYEVENT:FALSE
SUMMARY:Kid’s Business Fair
DESCRIPTION:Join us for the Kids Business Fair\, where young entrepreneurs (ages 5 to 17) showcase their creativity and hard work! Browse and shop a variety of unique\, handmade products and creative inventions crafted by talented kids in our community. It's the perfect way to support the next generation of innovators while enjoying a fun and family-friendly event. Don't miss out! Do you have kids who want to register for this event? Sign up today at LesAndJims.com/cbf ?? Date: Saturday\, March 1st ? Time: 9:00 AM - 12:00 PM ?? Location: Les & Jim's Lincoln Lanes Banquet Hall
X-ALT-DESC;FMTTYPE=text/html:Join us for the Kids Business Fair\, where young entrepreneurs (ages 5 to 17) showcase their creativity and hard work! Browse and shop a variety of unique\, handmade products and creative inventions crafted by talented kids in our community. It&#39\;s the perfect way to support the next generation of innovators while enjoying a fun and family-friendly event. Don&rsquo\;t miss out! Do you have kids who want to register for this event? Sign up today at LesAndJims.com/cbf ?? Date: Saturday\, March 1st ? Time: 9:00 AM - 12:00 PM ?? Location: Les &amp\; Jim&#39\;s Lincoln Lanes Banquet Hall
LOCATION:Les & Jim's Banquet Hall
UID:e.2717.12253
SEQUENCE:3
DTSTAMP:20260422T110447Z
URL:https://business.merrillchamber.org/events/details/kid-s-business-fair-03-01-2025-12253
END:VEVENT

END:VCALENDAR
