BEGIN:VCALENDAR
VERSION:2.0
PRODID:-//ChamberMaster//Event Calendar 2.0//EN
METHOD:PUBLISH
X-PUBLISHED-TTL:P3D
REFRESH-INTERVAL:P3D
CALSCALE:GREGORIAN
BEGIN:VEVENT
DTSTART:20250322T210000Z
DTEND:20250323T020000Z
X-MICROSOFT-CDO-ALLDAYEVENT:FALSE
SUMMARY:Little Lakes Banquet
DESCRIPTION:Show your support by coming out and showing your support to Little Lakes Memories.  LIttle Lake Memories\, Inc. is a non-profit organization providing lodging\, recreation\, hunting to Physically Challenged Individuals.\n\nAt this event\, enjoy learning about the services that Little Lake Memories provide\, sit back for a wonderful meal\, raffles and so much more.\n\nTo purchase tickets call Dick at 715-218-1522 | Dawn at 715-219-6037 | Stan 715-297-5070 | Jay at 715-360-5264
X-ALT-DESC;FMTTYPE=text/html:Show your support by coming out and showing your support to Little Lakes Memories.&nbsp\; LIttle Lake Memories\, Inc. is a non-profit organization providing lodging\, recreation\, hunting to Physically Challenged Individuals.<br />\nAt this event\, enjoy learning about the services that Little Lake Memories provide\, sit back for a wonderful meal\, raffles and so much more.<br />\nTo purchase tickets call Dick at 715-218-1522 | Dawn at 715-219-6037 | Stan 715-297-5070 | Jay at 715-360-5264
LOCATION:Merrill Expo Center North Sales St.
UID:e.2717.11812
SEQUENCE:3
DTSTAMP:20260422T112631Z
URL:https://business.merrillchamber.org/events/details/little-lakes-banquet-11812
END:VEVENT

END:VCALENDAR
