BEGIN:VCALENDAR
VERSION:2.0
PRODID:-//ChamberMaster//Event Calendar 2.0//EN
METHOD:PUBLISH
X-PUBLISHED-TTL:P3D
REFRESH-INTERVAL:P3D
CALSCALE:GREGORIAN
BEGIN:VEVENT
DTSTART:20250308T163000Z
DTEND:20250308T180000Z
X-MICROSOFT-CDO-ALLDAYEVENT:FALSE
SUMMARY:Lucky Penny Charm with Jordan
DESCRIPTION:Saint Patrick's Day is coming up and these little necklace charms or bracelet charms are going to be best way to get the kids into the holidays and to teach them the meaning of the 4 leaf clover and the pot of gold at the end of the rainbow. All supplies needed to complete the workshop are included in the price. An adult must be present for each child or children attending the workshop that are 9 and under. The class is limited to 12 participants. You can register for the workshop in store\, online or over the phone. In order to reserve your spot\, you must make the payment while reserving. We ask that you register by noon the day prior to the workshop. If you missed the deadline to register\, we ask that you call the store and ask uf we have any availability for the workshop.
X-ALT-DESC;FMTTYPE=text/html:Saint Patrick&rsquo\;s Day is coming up and these little necklace charms or bracelet charms are going to be best way to get the kids into the holidays and to teach them the meaning of the 4 leaf clover and the pot of gold at the end of the rainbow. All supplies needed to complete the workshop are included in the price. An adult must be present for each child or children attending the workshop that are 9 and under. The class is limited to 12 participants. You can register for the workshop in store\, online or over the phone. In order to reserve your spot\, you must make the payment while reserving. We ask that you register by noon the day prior to the workshop. If you missed the deadline to register\, we ask that you call the store and ask uf we have any availability for the workshop.
LOCATION:Inspiring Creativity Supplies and More LLC
UID:e.2717.12232
SEQUENCE:3
DTSTAMP:20260420T063550Z
URL:https://business.merrillchamber.org/events/details/lucky-penny-charm-with-jordan-12232
END:VEVENT

END:VCALENDAR
