BEGIN:VCALENDAR
VERSION:2.0
PRODID:-//ChamberMaster//Event Calendar 2.0//EN
METHOD:PUBLISH
X-PUBLISHED-TTL:P3D
REFRESH-INTERVAL:P3D
CALSCALE:GREGORIAN
BEGIN:VEVENT
DTSTART:20250329T150000Z
DTEND:20250329T190000Z
X-MICROSOFT-CDO-ALLDAYEVENT:FALSE
SUMMARY:MEC's Art & Craft DeStash
DESCRIPTION:Calling all Artists & Crafters! Whether you are looking to simplify your creative workspaces\, or dabble in a new form of art\, this is the event for you! Do you need to clean up your creative workspace? Being creative artists and crafters\, we tend to like to buy and try new things. We dabble with many different mediums. Too many ideas and not enough time? Do you have art and craft supplies\, gently used tools (art & craft related) that you no longer have a use for? If you're interested in selling at this event- email us at mec@ci.merrill.wi.us and request more details/ registration. If you're interested in attending and shopping this event- Save the date and stay tuned for more details!
X-ALT-DESC;FMTTYPE=text/html:Calling all Artists &amp\; Crafters! Whether you are looking to simplify your creative workspaces\, or dabble in a new form of art\, this is the event for you! Do you need to clean up your creative workspace? Being creative artists and crafters\, we tend to like to buy and try new things. We dabble with many different mediums. Too many ideas and not enough time? Do you have art and craft supplies\, gently used tools (art &amp\; craft related) that you no longer have a use for? If you&#39\;re interested in selling at this event- email us at mec@ci.merrill.wi.us and request more details/ registration. If you&#39\;re interested in attending and shopping this event- Save the date and stay tuned for more details!
LOCATION:303 N. Sales St. Merrill\, WI 54452
UID:e.2717.12101
SEQUENCE:3
DTSTAMP:20260420T063424Z
URL:https://business.merrillchamber.org/events/details/mec-s-art-craft-destash-12101
END:VEVENT

END:VCALENDAR
