BEGIN:VCALENDAR
VERSION:2.0
PRODID:-//ChamberMaster//Event Calendar 2.0//EN
METHOD:PUBLISH
X-PUBLISHED-TTL:P3D
REFRESH-INTERVAL:P3D
CALSCALE:GREGORIAN
BEGIN:VEVENT
DTSTART:20260625T000000Z
DTEND:20260625T010000Z
X-MICROSOFT-CDO-ALLDAYEVENT:FALSE
SUMMARY:Merrill City Band Performance
DESCRIPTION:Merrill City Band Performance
X-ALT-DESC;FMTTYPE=text/html:Merrill City Band Performance&nbsp\;&nbsp\;&nbsp\;&nbsp\;&nbsp\;&nbsp\;&nbsp\;&nbsp\;&nbsp\;&nbsp\;&nbsp\;&nbsp\;&nbsp\;&nbsp\;&nbsp\;&nbsp\;
LOCATION:Normal Park 500 North Center Ave. Merrill\, WI 54452
UID:e.2717.14562
SEQUENCE:3
DTSTAMP:20260423T112056Z
URL:https://business.merrillchamber.org/events/details/merrill-city-band-performance-14562
END:VEVENT

END:VCALENDAR
