BEGIN:VCALENDAR
VERSION:2.0
PRODID:-//ChamberMaster//Event Calendar 2.0//EN
METHOD:PUBLISH
X-PUBLISHED-TTL:P3D
REFRESH-INTERVAL:P3D
CALSCALE:GREGORIAN
BEGIN:VEVENT
DTSTART:20250425T210000Z
DTEND:20250426T030000Z
X-MICROSOFT-CDO-ALLDAYEVENT:FALSE
SUMMARY:Merrill Concertina Festival
DESCRIPTION:This 2-day concertina festival provides concertina players and enthusiasts from around the country and opportunity to get together to play\, buy\, trade\, or sell their instruments\, listen to other concertina players play\, and share their enjoyment of the concertina with others.  The Concertina festival will be held in the banquet hall of Les & Jim's Lincoln Lanes.\n\nFriday April 25\, 2025 - 4pm to 10pm\n\nSaturday April 26\, 2025 - 10am to 10pm
X-ALT-DESC;FMTTYPE=text/html:This 2-day concertina festival provides concertina players and enthusiasts from around the country and opportunity to get together to play\, buy\, trade\, or sell their instruments\, listen to other concertina players play\, and share their enjoyment of the concertina with others.&nbsp\; The Concertina festival will be held in the banquet hall of Les &amp\; Jim&#39\;s Lincoln Lanes.<br />\nFriday April 25\, 2025 - 4pm to 10pm<br />\nSaturday April 26\, 2025 - 10am to 10pm&nbsp\;&nbsp\;&nbsp\;&nbsp\;
LOCATION:Les & Jim's Lincoln Lanes 1208 N. Center Ave Merrill\, WI 54452
UID:e.2717.11803
SEQUENCE:3
DTSTAMP:20260420T051222Z
URL:https://business.merrillchamber.org/events/details/merrill-concertina-festival-11803
END:VEVENT

END:VCALENDAR
