BEGIN:VCALENDAR
VERSION:2.0
PRODID:-//ChamberMaster//Event Calendar 2.0//EN
METHOD:PUBLISH
X-PUBLISHED-TTL:P3D
REFRESH-INTERVAL:P3D
CALSCALE:GREGORIAN
BEGIN:VEVENT
DTSTART:20260926T140000Z
DTEND:20260926T190000Z
X-MICROSOFT-CDO-ALLDAYEVENT:FALSE
SUMMARY:Merrill Expo September Craft & Vendor Extravaganza
DESCRIPTION:Over 75 crafters and vendors will be selling handmade crafts??\, gifts ??\, fall decorations\, jewelry??\, candles??\, bakery??\, cosmetics??\, children's books??\, and so much! ?? Merrill Expo Center [9am-2pm] - 303 N. Sales St. Find that one of a kind gift\, decorate your home with beautiful fall decorations\, treat yourself to gorgeous homemade jewelry at amazing prices\, and have access to tons of other household essentials. Admission is FREE! Sept. 26th\, 2026 Invite a friend!! You don't want to miss these SALES!!
X-ALT-DESC;FMTTYPE=text/html:Over 75 crafters and vendors will be selling handmade crafts??\, gifts ??\, fall decorations\, jewelry??\, candles??\, bakery??\, cosmetics??\, children&rsquo\;s books??\, and so much! ?? Merrill Expo Center [9am-2pm] - 303 N. Sales St. Find that one of a kind gift\, decorate your home with beautiful fall decorations\, treat yourself to gorgeous homemade jewelry at amazing prices\, and have access to tons of other household essentials. Admission is FREE! Sept. 26th\, 2026 Invite a friend!! You don&#39\;t want to miss these SALES!!
LOCATION:Merrill Expo Center (303 N. Sales St.)
UID:e.2717.14559
SEQUENCE:3
DTSTAMP:20260423T113049Z
URL:https://business.merrillchamber.org/events/details/merrill-expo-september-craft-vendor-extravaganza-14559
END:VEVENT

END:VCALENDAR
