BEGIN:VCALENDAR
VERSION:2.0
PRODID:-//ChamberMaster//Event Calendar 2.0//EN
METHOD:PUBLISH
X-PUBLISHED-TTL:P3D
REFRESH-INTERVAL:P3D
CALSCALE:GREGORIAN
BEGIN:VEVENT
DTSTART:20250405T190000Z
DTEND:20250405T210000Z
X-MICROSOFT-CDO-ALLDAYEVENT:FALSE
SUMMARY:MHS Musical
DESCRIPTION:Merrill High School presents their Annual Musical\, Catch Me if You Can. \n\nhttps://www.facebook.com/MHSTheatreJays
X-ALT-DESC;FMTTYPE=text/html:Merrill High School presents their Annual Musical\, Catch Me if You Can.&nbsp\;<br />\nhttps://www.facebook.com/MHSTheatreJays<br />\n&nbsp\;
LOCATION:Merrill High School Auditorium 1201 N. Sales St
UID:e.2717.12776
SEQUENCE:3
DTSTAMP:20260420T050200Z
URL:https://business.merrillchamber.org/events/details/mhs-musical-12776
END:VEVENT

END:VCALENDAR
