BEGIN:VCALENDAR
VERSION:2.0
PRODID:-//ChamberMaster//Event Calendar 2.0//EN
METHOD:PUBLISH
X-PUBLISHED-TTL:P3D
REFRESH-INTERVAL:P3D
CALSCALE:GREGORIAN
BEGIN:VEVENT
DTSTART:20250325T223000Z
DTEND:20250326T003000Z
X-MICROSOFT-CDO-ALLDAYEVENT:FALSE
SUMMARY:Mixed Media Resin Beach Art with Tanya
DESCRIPTION:Looking for a way to bring the beach home and for it to always be sunny? Lets make a beach with mixed media and resin! This craft is the best way to get into the summer vibes while spring takes it's course on us. All supplies needed to complete the workshop are included in the price. The class is limited to 12 participants. You can register for the workshop in store\, online\, or over the phone. In order to reserve your spot\, you must make the payment while reserving. We ask that you register by noon the day prior to the workshop. If you missed the deadline to register we ask that you call the store and ask if we have any availability for the workshop.
X-ALT-DESC;FMTTYPE=text/html:Looking for a way to bring the beach home and for it to always be sunny? Lets make a beach with mixed media and resin! This craft is the best way to get into the summer vibes while spring takes it&rsquo\;s course on us. All supplies needed to complete the workshop are included in the price. The class is limited to 12 participants. You can register for the workshop in store\, online\, or over the phone. In order to reserve your spot\, you must make the payment while reserving. We ask that you register by noon the day prior to the workshop. If you missed the deadline to register we ask that you call the store and ask if we have any availability for the workshop.
LOCATION:Inspiring Creativity Supplies and More LLC
UID:e.2717.12240
SEQUENCE:3
DTSTAMP:20260420T063725Z
URL:https://business.merrillchamber.org/events/details/mixed-media-resin-beach-art-with-tanya-12240
END:VEVENT

END:VCALENDAR
