BEGIN:VCALENDAR
VERSION:2.0
PRODID:-//ChamberMaster//Event Calendar 2.0//EN
METHOD:PUBLISH
X-PUBLISHED-TTL:P3D
REFRESH-INTERVAL:P3D
CALSCALE:GREGORIAN
BEGIN:VEVENT
DTSTART:20250101T020000Z
DTEND:20250101T043000Z
X-MICROSOFT-CDO-ALLDAYEVENT:FALSE
SUMMARY:NYE Glow Bowl
DESCRIPTION:Discover the easy\, no fuss\, no mess way to celebrate the new year with family and friends while keeping your sanity\n\n\n\n\n\n\n\nMerrill's Biggest & Funnest New Year's Eve Celebration Is Almost Here...
X-ALT-DESC;FMTTYPE=text/html:<div class="c-sub-heading c-wrapper" id="sub-heading-pY0WwsMXCg" style="box-sizing: border-box\; position: relative\; word-break: break-word\; margin: 0px 0px 0px 40px\; color: rgb(0\, 0\, 0)\; font-family: &quot\;Times New Roman&quot\;\; font-size: medium\; background-color: rgba(255\, 255\, 255\, 0.75)\;">\n<div class="sub-heading-pY0WwsMXCg text-output csub-heading-pY0WwsMXCg noBorder radius0 none" data-animation-class="" style="box-sizing: border-box\; border-width: 2px\; border-style: solid\; border-color: var(--black)\; border-radius: 0px\; font-family: var(--headlinefont)\; background-color: var(--transparent)\; color: var(--text-color)\; box-shadow: none\; padding: 0px 40px 0px 0px\; opacity: 1\; text-shadow: none\; line-height: 1.3em\; letter-spacing: 0px\; text-align: center\; border-image: initial !important\; font-size: 16px !important\;">\n<div style="box-sizing: border-box\;">\n<h2 style="box-sizing: border-box\; margin: unset\; font-size: 16px !important\;"><strong style="box-sizing: border-box\; color: var(--text-color) !important\;">Discover the easy\, no fuss\, no mess way to celebrate the new year with family and friends while keeping your sanity</strong></h2>\n</div>\n</div>\n</div>\n\n<div class="c-heading c-wrapper" id="heading-w_pjjvYMKt" style="box-sizing: border-box\; position: relative\; word-break: break-word\; margin: 0px 40px\; color: rgb(0\, 0\, 0)\; font-family: &quot\;Times New Roman&quot\;\; font-size: medium\; background-color: rgba(255\, 255\, 255\, 0.75)\;">\n<div class="heading-w_pjjvYMKt text-output cheading-w_pjjvYMKt noBorder radius0 none" data-animation-class="" style="box-sizing: border-box\; font-weight: 700\; border-width: 2px\; border-style: solid\; border-color: var(--black)\; border-image: initial !important\; border-radius: 0px\; font-family: var(--headlinefont)\; background-color: var(--transparent)\; color: var(--text-color)\; box-shadow: none\; padding: 0px\; opacity: 1\; text-shadow: none\; line-height: 1.3em\; letter-spacing: 0px\; text-align: center\; font-size: 32px !important\;">\n<div style="box-sizing: border-box\;">\n<h1 style="box-sizing: border-box\; font-weight: 700\; margin: unset\; font-size: 32px !important\;"><strong style="box-sizing: border-box\; color: var(--text-color) !important\;">Merrill&#39\;s Biggest &amp\; Funnest New Year&#39\;s Eve Celebration Is Almost Here...</strong></h1>\n</div>\n</div>\n</div>\n
LOCATION:Les & Jim's Lincoln Lanes 1208 N Center Ave Merrill\, WI 54452
UID:e.2717.12115
SEQUENCE:3
DTSTAMP:20260423T101142Z
URL:https://business.merrillchamber.org/events/details/nye-glow-bowl-12115
END:VEVENT

END:VCALENDAR
