BEGIN:VCALENDAR
VERSION:2.0
PRODID:-//ChamberMaster//Event Calendar 2.0//EN
METHOD:PUBLISH
X-PUBLISHED-TTL:P3D
REFRESH-INTERVAL:P3D
CALSCALE:GREGORIAN
BEGIN:VEVENT
DTSTART:20250325T153000Z
DTEND:20250325T170000Z
X-MICROSOFT-CDO-ALLDAYEVENT:FALSE
SUMMARY:Peep House Build
DESCRIPTION:Create your own spring peep edible house using cookie wafers\, frosting\, candy and more! This Easter themed edible house craft is recommended for ages 8 +. Pre-registration is required for this event and opens on March 1. Please register by calling 715-536-7191 or stop at the Youth Service desk to sign up.
X-ALT-DESC;FMTTYPE=text/html:Create your own spring peep edible house using cookie wafers\, frosting\, candy and more! This Easter themed edible house craft is recommended for ages 8 +. Pre-registration is required for this event and opens on March 1. Please register by calling 715-536-7191 or stop at the Youth Service desk to sign up.
LOCATION:TB Scott Free Library 106 W. 1st St.
UID:e.2717.12265
SEQUENCE:3
DTSTAMP:20260422T112140Z
URL:https://business.merrillchamber.org/events/details/peep-house-build-03-25-2025-12265
END:VEVENT

END:VCALENDAR
