BEGIN:VCALENDAR
VERSION:2.0
PRODID:-//ChamberMaster//Event Calendar 2.0//EN
METHOD:PUBLISH
X-PUBLISHED-TTL:P3D
REFRESH-INTERVAL:P3D
CALSCALE:GREGORIAN
BEGIN:VEVENT
DTSTART:20250324T180000Z
DTEND:20250324T193000Z
X-MICROSOFT-CDO-ALLDAYEVENT:FALSE
SUMMARY:Piggy Marshmallow friends with Jordan
DESCRIPTION:Farm animals are the perfect way to start spring break! Why not come in and make your own pet to take home and spend your spring break with? You can make it all your own and nobody else will have the same pig as you and guess what\, no mess included. These are the perfect little buddies to keep the kids company during their long spring break. All supplies needed to complete the workshop are included in the price. An adult must be present for each child or children attending the workshop that are 9 and under. The class is limited to 12 participants. You can register for the workshop in store\, online or over the phone. In order to reserve your spot\, you must make the payment while reserving. We ask that you register by noon the day prior to the workshop. If you missed the deadline to register\, we ask that you call the store and ask uf we have any availability for the workshop.
X-ALT-DESC;FMTTYPE=text/html:Farm animals are the perfect way to start spring break! Why not come in and make your own pet to take home and spend your spring break with? You can make it all your own and nobody else will have the same pig as you and guess what\, no mess included. These are the perfect little buddies to keep the kids company during their long spring break. All supplies needed to complete the workshop are included in the price. An adult must be present for each child or children attending the workshop that are 9 and under. The class is limited to 12 participants. You can register for the workshop in store\, online or over the phone. In order to reserve your spot\, you must make the payment while reserving. We ask that you register by noon the day prior to the workshop. If you missed the deadline to register\, we ask that you call the store and ask uf we have any availability for the workshop.
LOCATION:Inspiring Creativity Supplies and More LLC
UID:e.2717.12239
SEQUENCE:3
DTSTAMP:20260420T063639Z
URL:https://business.merrillchamber.org/events/details/piggy-marshmallow-friends-with-jordan-12239
END:VEVENT

END:VCALENDAR
