BEGIN:VCALENDAR
VERSION:2.0
PRODID:-//ChamberMaster//Event Calendar 2.0//EN
METHOD:PUBLISH
X-PUBLISHED-TTL:P3D
REFRESH-INTERVAL:P3D
CALSCALE:GREGORIAN
BEGIN:VEVENT
DTSTART:20250424T180000Z
DTEND:20250424T194500Z
X-MICROSOFT-CDO-ALLDAYEVENT:FALSE
SUMMARY:Powerful Tools for Caregivers w/ ADRC
DESCRIPTION:Caregivers provide so much to others as they care for a loved one such as a spouse\, parent\, neighbor\, aunt\, or anyone. Powerful Tools is about how caregivers can care for themselves too. Explore how to reduce stress\, guilt\, anger\, and depression. Improve your decision-making\, time management\, and communication skills\, while improving your self-care. This 6 week program is being offered free by the Aging and Disability Resource Center of Central Wisconsin (ADRC-CW). Please call 888-486-9545 to register. Registration is required. This program is not intended for professional caregivers.
X-ALT-DESC;FMTTYPE=text/html:Caregivers provide so much to others as they care for a loved one such as a spouse\, parent\, neighbor\, aunt\, or anyone. Powerful Tools is about how caregivers can care for themselves too. Explore how to reduce stress\, guilt\, anger\, and depression. Improve your decision-making\, time management\, and communication skills\, while improving your self-care. This 6 week program is being offered free by the Aging and Disability Resource Center of Central Wisconsin (ADRC-CW). Please call 888-486-9545 to register. Registration is required. This program is not intended for professional caregivers.
LOCATION:TB Scott Free Library 106 W 1st St
UID:e.2717.12782
SEQUENCE:3
DTSTAMP:20260420T050323Z
URL:https://business.merrillchamber.org/events/details/powerful-tools-for-caregivers-w-adrc-12782
END:VEVENT

END:VCALENDAR
