BEGIN:VCALENDAR
VERSION:2.0
PRODID:-//ChamberMaster//Event Calendar 2.0//EN
METHOD:PUBLISH
X-PUBLISHED-TTL:P3D
REFRESH-INTERVAL:P3D
CALSCALE:GREGORIAN
BEGIN:VEVENT
DTSTART:20241214T163000Z
DTEND:20241214T180000Z
X-MICROSOFT-CDO-ALLDAYEVENT:FALSE
SUMMARY:Real Writer's Group
DESCRIPTION:The Real Writers Group will meet Saturday\, December 14th at 10:30am in the Community Room. The Real Writers Group is open to anyone who would like to share their passion for writing and exchange ideas that might range from\, getting published\, what inspires us\, do you write from an outline or the seat of the pants\, punctuation\, voice\, and other topics that may come up along the way. All interest and skill levels are welcome! The main objective for the group is to share inspiration for the writing process and to support those that enjoy the art of writing.
X-ALT-DESC;FMTTYPE=text/html:The Real Writers Group will meet Saturday\, December 14th at 10:30am in the Community Room. The Real Writers Group is open to anyone who would like to share their passion for writing and exchange ideas that might range from\, getting published\, what inspires us\, do you write from an outline or the seat of the pants\, punctuation\, voice\, and other topics that may come up along the way. All interest and skill levels are welcome! The main objective for the group is to share inspiration for the writing process and to support those that enjoy the art of writing.
LOCATION:TB Scott Free Library Community Room
UID:e.2717.12043
SEQUENCE:3
DTSTAMP:20260420T083530Z
URL:https://business.merrillchamber.org/events/details/real-writer-s-group-12-14-2024-12043
END:VEVENT

END:VCALENDAR
