BEGIN:VCALENDAR
VERSION:2.0
PRODID:-//ChamberMaster//Event Calendar 2.0//EN
METHOD:PUBLISH
X-PUBLISHED-TTL:P3D
REFRESH-INTERVAL:P3D
CALSCALE:GREGORIAN
BEGIN:VEVENT
DTSTART:20250320T223000Z
DTEND:20250321T003000Z
X-MICROSOFT-CDO-ALLDAYEVENT:FALSE
SUMMARY:Sinus Headache Relief Shower Bombs with Tanya
DESCRIPTION:With the spring season approaching\, allergies are approaching and headaches come along with it. These shower bombs are going to be the live saver you need this upcoming spring season. All you do is turn on the steamy water in the shower and plop these bombs right under the water and the rest is magic. All supplies needed to complete the workshop are included in the price. The class is limited to 12 participants. You can register for the workshop in store\, online\, or over the phone. In order to reserve your spot\, you must make the payment while reserving. We ask that you register by noon the day prior to the workshop. If you missed the deadline to register we ask that you call the store and ask if we have any availability for the workshop.
X-ALT-DESC;FMTTYPE=text/html:With the spring season approaching\, allergies are approaching and headaches come along with it. These shower bombs are going to be the live saver you need this upcoming spring season. All you do is turn on the steamy water in the shower and plop these bombs right under the water and the rest is magic. All supplies needed to complete the workshop are included in the price. The class is limited to 12 participants. You can register for the workshop in store\, online\, or over the phone. In order to reserve your spot\, you must make the payment while reserving. We ask that you register by noon the day prior to the workshop. If you missed the deadline to register we ask that you call the store and ask if we have any availability for the workshop.
LOCATION:Inspiring Creativity Supplies and More LLC
UID:e.2717.12237
SEQUENCE:3
DTSTAMP:20260420T063557Z
URL:https://business.merrillchamber.org/events/details/sinus-headache-relief-shower-bombs-with-tanya-12237
END:VEVENT

END:VCALENDAR
