BEGIN:VCALENDAR
VERSION:2.0
PRODID:-//ChamberMaster//Event Calendar 2.0//EN
METHOD:PUBLISH
X-PUBLISHED-TTL:P3D
REFRESH-INTERVAL:P3D
CALSCALE:GREGORIAN
BEGIN:VEVENT
DTSTART:20250222T200000Z
DTEND:20250222T223000Z
X-MICROSOFT-CDO-ALLDAYEVENT:FALSE
SUMMARY:Sip N Solve
DESCRIPTION:Sip N Solve is Sunset Hollow's first puzzle tournament!\n\nThey will provide the puzzle for each team and a free glass of house wine for each team member\n\n$20.00 per person\n\nThere will be a special cocktail available to purchase along with mini flatbreads!\n\nYour team will have 2 hours to complete the puzzle. Winner will get a prize which is to be determined.\n\nPre registration is required with the name of your team and how many in group.(max is 4 per group) 715-722-0471
X-ALT-DESC;FMTTYPE=text/html:<div class="xdj266r x11i5rnm xat24cr x1mh8g0r x1vvkbs" style="margin: 0px\; overflow-wrap: break-word\; font-family: &quot\;Segoe UI Historic&quot\;\, &quot\;Segoe UI&quot\;\, Helvetica\, Arial\, sans-serif\; color: rgb(8\, 8\, 9)\; font-size: 15px\;">Sip N Solve is Sunset Hollow&#39\;s&nbsp\;first puzzle tournament!<br class="html-br" />\nThey will provide the puzzle for each team and a free glass of house wine for each team member<br class="html-br" />\n$20.00 per person</div>\n\n<div class="x11i5rnm xat24cr x1mh8g0r x1vvkbs xtlvy1s" style="margin: 0.5em 0px 0px\; overflow-wrap: break-word\; font-family: &quot\;Segoe UI Historic&quot\;\, &quot\;Segoe UI&quot\;\, Helvetica\, Arial\, sans-serif\; color: rgb(8\, 8\, 9)\; font-size: 15px\;">There will be a special cocktail available to purchase along with mini flatbreads!<br class="html-br" />\nYour team will have 2 hours to complete the puzzle. Winner will get a prize which is to be determined.</div>\n\n<div class="x11i5rnm xat24cr x1mh8g0r x1vvkbs xtlvy1s" style="margin: 0.5em 0px 0px\; overflow-wrap: break-word\; font-family: &quot\;Segoe UI Historic&quot\;\, &quot\;Segoe UI&quot\;\, Helvetica\, Arial\, sans-serif\; color: rgb(8\, 8\, 9)\; font-size: 15px\;">Pre registration&nbsp\;is required with the name of your team and how many in group.(max is 4 per group) 715-722-0471</div>\n
LOCATION:Sunset Hollow Wine\, Bistro and Gifts 811 E 1st Street Merrill\, WI
UID:e.2717.12166
SEQUENCE:3
DTSTAMP:20260420T075705Z
URL:https://business.merrillchamber.org/events/details/sip-n-solve-12166
END:VEVENT

END:VCALENDAR
