BEGIN:VCALENDAR
VERSION:2.0
PRODID:-//ChamberMaster//Event Calendar 2.0//EN
METHOD:PUBLISH
X-PUBLISHED-TTL:P3D
REFRESH-INTERVAL:P3D
CALSCALE:GREGORIAN
BEGIN:VEVENT
DTSTART:20250327T223000Z
DTEND:20250328T003000Z
X-MICROSOFT-CDO-ALLDAYEVENT:FALSE
SUMMARY:Sock Bunnies with Jordan
DESCRIPTION:Spring showers bring new animals and these sock bunnies are the perfect addition to anyones home with no mess and no noise! These sock bunnies also make the perfect addition to anyones easter decor or just general overall spring decor. All supplies needed to complete the workshop are included in the price. The class is limited to 12 participants. You can register for the workshop in store\, online\, or over the phone. In order to reserve your spot\, you must make the payment while reserving. We ask that you register by noon the day prior to the workshop. If you missed the deadline to register we ask that you call the store and ask if we have any availability for the workshop.
X-ALT-DESC;FMTTYPE=text/html:Spring showers bring new animals and these sock bunnies are the perfect addition to anyones home with no mess and no noise! These sock bunnies also make the perfect addition to anyones easter decor or just general overall spring decor. All supplies needed to complete the workshop are included in the price. The class is limited to 12 participants. You can register for the workshop in store\, online\, or over the phone. In order to reserve your spot\, you must make the payment while reserving. We ask that you register by noon the day prior to the workshop. If you missed the deadline to register we ask that you call the store and ask if we have any availability for the workshop.
LOCATION:Inspiring Creativity Supplies and More LLC
UID:e.2717.12242
SEQUENCE:3
DTSTAMP:20260420T063424Z
URL:https://business.merrillchamber.org/events/details/sock-bunnies-with-jordan-12242
END:VEVENT

END:VCALENDAR
