BEGIN:VCALENDAR
VERSION:2.0
PRODID:-//ChamberMaster//Event Calendar 2.0//EN
METHOD:PUBLISH
X-PUBLISHED-TTL:P3D
REFRESH-INTERVAL:P3D
CALSCALE:GREGORIAN
BEGIN:VEVENT
DTSTART:20250301T163000Z
DTEND:20250301T180000Z
X-MICROSOFT-CDO-ALLDAYEVENT:FALSE
SUMMARY:Sprinkle Slime With Jordan
DESCRIPTION:We are embarking on spring coming in which means sunshine\, rain and everything in between! This sprinkle slime is the perfect way to get into the spring season and a craft that every single kid will love to bring home and play with. All supplies needed to complete the workshop are included in the price. An adult must be present for each child or children attending the workshop that are 9 and under. The class is limited to 12 participants. You can register for the workshop in store\, online or over the phone. In order to reserve your spot\, you must make the payment while reserving. We ask that you register by noon the day prior to the workshop. If you missed the deadline to register\, we ask that you call the store and ask if we have any availability for the workshop.
X-ALT-DESC;FMTTYPE=text/html:We are embarking on spring coming in which means sunshine\, rain and everything in between! This sprinkle slime is the perfect way to get into the spring season and a craft that every single kid will love to bring home and play with. All supplies needed to complete the workshop are included in the price. An adult must be present for each child or children attending the workshop that are 9 and under. The class is limited to 12 participants. You can register for the workshop in store\, online or over the phone. In order to reserve your spot\, you must make the payment while reserving. We ask that you register by noon the day prior to the workshop. If you missed the deadline to register\, we ask that you call the store and ask if we have any availability for the workshop.
LOCATION:Inspiring Creativity Supplies and More LLC
UID:e.2717.12229
SEQUENCE:3
DTSTAMP:20260420T063209Z
URL:https://business.merrillchamber.org/events/details/sprinkle-slime-with-jordan-12229
END:VEVENT

END:VCALENDAR
