BEGIN:VCALENDAR
VERSION:2.0
PRODID:-//ChamberMaster//Event Calendar 2.0//EN
METHOD:PUBLISH
X-PUBLISHED-TTL:P3D
REFRESH-INTERVAL:P3D
CALSCALE:GREGORIAN
BEGIN:VEVENT
DTSTART:20260426T141500Z
DTEND:20260426T153000Z
X-MICROSOFT-CDO-ALLDAYEVENT:FALSE
SUMMARY:St. John 150th anniversary - Between Services
DESCRIPTION:Join us for cinnamon rolls\, Kringle\, coffee cake\, sweet breads\, muffins\, fresh berries & oranges. We will have coffee\, water & orange juice to drink. All food is free. No reservations are needed.
X-ALT-DESC;FMTTYPE=text/html:Join us for cinnamon rolls\, Kringle\, coffee cake\, sweet breads\, muffins\, fresh berries &amp\; oranges. We will have coffee\, water &amp\; orange juice to drink. All food is free. No reservations are needed.
LOCATION:1104 East 3rd Street\, Merrill\, Wisconsin 54452
UID:e.2717.14551
SEQUENCE:3
DTSTAMP:20260425T031156Z
URL:https://business.merrillchamber.org/events/details/st-john-150th-anniversary-between-services-14551
END:VEVENT

END:VCALENDAR
