BEGIN:VCALENDAR
VERSION:2.0
PRODID:-//ChamberMaster//Event Calendar 2.0//EN
METHOD:PUBLISH
X-PUBLISHED-TTL:P3D
REFRESH-INTERVAL:P3D
CALSCALE:GREGORIAN
BEGIN:VEVENT
DTSTART:20260426T153000Z
DTEND:20260426T164500Z
X-MICROSOFT-CDO-ALLDAYEVENT:FALSE
SUMMARY:St. John 150th anniversary service with Holy Communion 10:30AM
DESCRIPTION:
X-ALT-DESC;FMTTYPE=text/html:
LOCATION:1104 East 3rd Street\, Merrill\, Wisconsin 54452
UID:e.2717.14552
SEQUENCE:3
DTSTAMP:20260425T032821Z
URL:https://business.merrillchamber.org/events/details/st-john-150th-anniversary-service-with-holy-communion-10-30am-14552
END:VEVENT

END:VCALENDAR
