BEGIN:VCALENDAR
VERSION:2.0
PRODID:-//ChamberMaster//Event Calendar 2.0//EN
METHOD:PUBLISH
X-PUBLISHED-TTL:P3D
REFRESH-INTERVAL:P3D
CALSCALE:GREGORIAN
BEGIN:VEVENT
DTSTART:20260425T210000Z
DTEND:20260426T200000Z
X-MICROSOFT-CDO-ALLDAYEVENT:FALSE
SUMMARY:St John Lutheran Church\, Merrill - 150th anniversary
DESCRIPTION:Saturday\, April 25 4:00 - 7:00 pm Gathering for all in the gym with pizza\, desserts\, and beverages. Sunday\, April 26 8:00 - 150th anniversary service with Holy Communion\, followed by cinnamon rolls\, coffee cakes\, fruit\, and beverages in the fellowship hall. 10:30 am - St. John 150th anniversary service with Holy Communion\, followed by hors d'oeuvres\, cake\, and beverages in the gym until 3:00 pm. Enjoy displays\, slide shows\, tours\, scavenger hunt\, photo ops\, etc. on both days.
X-ALT-DESC;FMTTYPE=text/html:Saturday\, April 25 4:00 - 7:00 pm Gathering for all in the gym with pizza\, desserts\, and beverages. Sunday\, April 26 8:00 - 150th anniversary service with Holy Communion\, followed by cinnamon rolls\, coffee cakes\, fruit\, and beverages in the fellowship hall. 10:30 am - St. John 150th anniversary service with Holy Communion\, followed by hors d&#39\;oeuvres\, cake\, and beverages in the gym until 3:00 pm. Enjoy displays\, slide shows\, tours\, scavenger hunt\, photo ops\, etc. on both days.
LOCATION:St. John Lutheran Church 1104 E Third Street Merrill WI 54452
UID:e.2717.14548
SEQUENCE:3
DTSTAMP:20260424T080504Z
URL:https://business.merrillchamber.org/events/details/st-john-lutheran-church-merrill-150th-anniversary-14548
END:VEVENT

END:VCALENDAR
