BEGIN:VCALENDAR
VERSION:2.0
PRODID:-//ChamberMaster//Event Calendar 2.0//EN
METHOD:PUBLISH
X-PUBLISHED-TTL:P3D
REFRESH-INTERVAL:P3D
CALSCALE:GREGORIAN
BEGIN:VEVENT
DTSTART:20250312T153000Z
DTEND:20250312T163000Z
X-MICROSOFT-CDO-ALLDAYEVENT:FALSE
SUMMARY:Start with art
DESCRIPTION:Families with young children join Woodson Art Museum educators for stories\, activities\, and hands-on art making. Experience children's illustrated literature and learn about the elements of art and design through guided projects. Try out a variety of art materials and explore themes like composition\, pattern\, and complementary colors.
X-ALT-DESC;FMTTYPE=text/html:Families with young children join Woodson Art Museum educators for stories\, activities\, and hands-on art making. Experience children&rsquo\;s illustrated literature and learn about the elements of art and design through guided projects. Try out a variety of art materials and explore themes like composition\, pattern\, and complementary colors.
LOCATION:TB Scott Free Library 2nd Floor
UID:e.2717.12185
SEQUENCE:3
DTSTAMP:20260420T063449Z
URL:https://business.merrillchamber.org/events/details/start-with-art-03-12-2025-12185
END:VEVENT

END:VCALENDAR
