BEGIN:VCALENDAR
VERSION:2.0
PRODID:-//ChamberMaster//Event Calendar 2.0//EN
METHOD:PUBLISH
X-PUBLISHED-TTL:P3D
REFRESH-INTERVAL:P3D
CALSCALE:GREGORIAN
BEGIN:VEVENT
DTSTART:20260427T153000Z
DTEND:20260427T163000Z
X-MICROSOFT-CDO-ALLDAYEVENT:FALSE
SUMMARY:Tales for Twos
DESCRIPTION:A special Storytime exploring stories\, art\, and play for children ages 24-36 months old. This Storytime is meant for one adult and one child. Pre-registration is required as space is limited. Stop in or call the library at 715-536-7191 to register.
X-ALT-DESC;FMTTYPE=text/html:A special Storytime exploring stories\, art\, and play for children ages 24-36 months old. This Storytime is meant for one adult and one child. Pre-registration is required as space is limited. Stop in or call the library at 715-536-7191 to register.
LOCATION:TB Scott Free Library 106 W 1st Street
UID:e.2717.14410
SEQUENCE:3
DTSTAMP:20260425T034226Z
URL:https://business.merrillchamber.org/events/details/tales-for-twos-04-27-2026-14410
END:VEVENT

END:VCALENDAR
