BEGIN:VCALENDAR
VERSION:2.0
PRODID:-//ChamberMaster//Event Calendar 2.0//EN
METHOD:PUBLISH
X-PUBLISHED-TTL:P3D
REFRESH-INTERVAL:P3D
CALSCALE:GREGORIAN
BEGIN:VEVENT
DTSTART:20240619T230000Z
DTEND:20240620T003000Z
X-MICROSOFT-CDO-ALLDAYEVENT:FALSE
SUMMARY:The Creative Spirit- Succulent Planter Class
DESCRIPTION:A succulent planting class. Learn how to care for and plant these beauties. Bring your own container approximately 10" w x 6" d with drainage. Be creative in your container selection. The workshop fee includes seven succulents\, soil\, reindeer moss\, and accents plus extensive succulent conversation!
X-ALT-DESC;FMTTYPE=text/html:A succulent planting class. Learn how to care for and plant these beauties. Bring your own container approximately 10&rdquo\; w x 6&rdquo\; d with drainage. Be creative in your container selection. The workshop fee includes seven succulents\, soil\, reindeer moss\, and accents plus extensive succulent conversation!
LOCATION:The Creative Spirit 129 N Prospect Street Merrill\, WI 54452
UID:e.2717.11615
SEQUENCE:3
DTSTAMP:20260422T190625Z
URL:https://business.merrillchamber.org/events/details/the-creative-spirit-succulent-planter-class-06-19-2024-11615
END:VEVENT

END:VCALENDAR
