BEGIN:VCALENDAR
VERSION:2.0
PRODID:-//ChamberMaster//Event Calendar 2.0//EN
METHOD:PUBLISH
X-PUBLISHED-TTL:P3D
REFRESH-INTERVAL:P3D
CALSCALE:GREGORIAN
BEGIN:VEVENT
DTSTART:20250308T000000Z
DTEND:20250308T020000Z
X-MICROSOFT-CDO-ALLDAYEVENT:FALSE
SUMMARY:The Vibe Open Mic
DESCRIPTION:The Vibe Open Mic Night. Sing a song\, tell a story\, read a poem\, perform a skit\, or just come to listen and enjoy! Free snacks and non-alcoholic drinks.
X-ALT-DESC;FMTTYPE=text/html:The Vibe Open Mic Night. Sing a song\, tell a story\, read a poem\, perform a skit\, or just come to listen and enjoy! Free snacks and non-alcoholic drinks.
LOCATION:Our Saviours Lutheran Church 300 Logan Street\, Merrill
UID:e.2717.12220
SEQUENCE:3
DTSTAMP:20260420T063215Z
URL:https://business.merrillchamber.org/events/details/the-vibe-open-mic-12220
END:VEVENT

END:VCALENDAR
