BEGIN:VCALENDAR
VERSION:2.0
PRODID:-//ChamberMaster//Event Calendar 2.0//EN
METHOD:PUBLISH
X-PUBLISHED-TTL:P3D
REFRESH-INTERVAL:P3D
CALSCALE:GREGORIAN
BEGIN:VEVENT
DTSTART:20250407T153000Z
DTEND:20250407T163000Z
X-MICROSOFT-CDO-ALLDAYEVENT:FALSE
SUMMARY:Toddler Story Time
DESCRIPTION:Storytime intended to be a special sharing experience between you and your child. For children age 24-36 months. We will have interactive stories\, songs\, play\, and crafts to help build literacy skills. Please register by calling 715-536-7191 or stop at the Youth Service desk to sign up today.
X-ALT-DESC;FMTTYPE=text/html:Storytime intended to be a special sharing experience between you and your child. For children age 24-36 months. We will have interactive stories\, songs\, play\, and crafts to help build literacy skills. Please register by calling 715-536-7191 or stop at the Youth Service desk to sign up today.
LOCATION:TB Scott Free Library 106 W. 1st St.
UID:e.2717.12258
SEQUENCE:3
DTSTAMP:20260420T044633Z
URL:https://business.merrillchamber.org/events/details/toddler-story-time-04-07-2025-12258
END:VEVENT

END:VCALENDAR
