BEGIN:VCALENDAR
VERSION:2.0
PRODID:-//ChamberMaster//Event Calendar 2.0//EN
METHOD:PUBLISH
X-PUBLISHED-TTL:P3D
REFRESH-INTERVAL:P3D
CALSCALE:GREGORIAN
BEGIN:VEVENT
DTSTART;VALUE=DATE:20240601
DTEND;VALUE=DATE:20240603
TRANSP:TRANSPARENT
X-MICROSOFT-CDO-ALLDAYEVENT:TRUE
SUMMARY:Trout Fishing Tournament
DESCRIPTION:First Annual Trout Fishing Tournament! Biggest Trout wins cash and basket prizes! There will be two classes\, Biggest Brown or Rainbow and Biggest Brook. $5.00 per person to enter. Sign in at Old Time General Store and Mercantile. Contest ends Sunday\, June 2 at 3pm. Stop in with your fish so they can measure it and take pictures!
X-ALT-DESC;FMTTYPE=text/html:First Annual Trout Fishing Tournament! Biggest Trout wins cash and basket prizes! There will be two classes\, Biggest Brown or Rainbow and Biggest Brook. $5.00 per person to enter. Sign in at Old Time General Store and Mercantile. Contest ends Sunday\, June 2 at 3pm. Stop in with your fish so they can measure it and take pictures!
LOCATION:Old Time General Store N5342 Hwy 17 Gleason\, WI 54435
UID:e.2717.11579
SEQUENCE:3
DTSTAMP:20260422T190923Z
URL:https://business.merrillchamber.org/events/details/trout-fishing-tournament-11579
END:VEVENT

END:VCALENDAR
