BEGIN:VCALENDAR
VERSION:2.0
PRODID:-//ChamberMaster//Event Calendar 2.0//EN
METHOD:PUBLISH
X-PUBLISHED-TTL:P3D
REFRESH-INTERVAL:P3D
CALSCALE:GREGORIAN
BEGIN:VEVENT
DTSTART:20250308T150000Z
DTEND:20250308T210000Z
X-MICROSOFT-CDO-ALLDAYEVENT:FALSE
SUMMARY:VFW Craft & Vendor Event
DESCRIPTION:Leap into Spring and join us in the Merrill City Wide vendor event. The VFW will have over 30 vendors! Come shop local and support our amazing vendors and crafters!\n\nIf interested in being a vendor please message this page\, Taylyn Brooks\, or Diana Hanneman. We will be the only 2 people accepting vendors!
X-ALT-DESC;FMTTYPE=text/html:<span style="color: rgb(8\, 8\, 9)\; font-family: &quot\;Segoe UI Historic&quot\;\, &quot\;Segoe UI&quot\;\, Helvetica\, Arial\, sans-serif\; font-size: 15px\;">Leap into Spring and join us in the Merrill City Wide vendor event. The VFW will have over 30 vendors! Come shop local and support our amazing vendors and crafters!</span><br class="html-br" style="color: rgb(8\, 8\, 9)\; font-family: &quot\;Segoe UI Historic&quot\;\, &quot\;Segoe UI&quot\;\, Helvetica\, Arial\, sans-serif\; font-size: 15px\;" />\n<span style="color: rgb(8\, 8\, 9)\; font-family: &quot\;Segoe UI Historic&quot\;\, &quot\;Segoe UI&quot\;\, Helvetica\, Arial\, sans-serif\; font-size: 15px\;">If interested in being a vendor please message this page\, Taylyn Brooks\, or Diana Hanneman. We will be the only 2 people accepting vendors!</span>
LOCATION:VFW Post 1638 601 Johnson Street Merrill\, WI 54452
UID:e.2717.12100
SEQUENCE:3
DTSTAMP:20260420T061855Z
URL:https://business.merrillchamber.org/events/details/vfw-craft-vendor-event-12100
END:VEVENT

END:VCALENDAR
